Workbook
Name activos: #REF!
Name activos: #REF!
Name activos: #REF!
Name activos: #REF!
Name activos: #REF!
Name AGUAS99: #REF!
Name AGUAS99: #REF!
Name AGUAS99: #REF!
Name AGUAS99: #REF!
Name AGUAS99: #REF!
Name BIDAGUAS: #REF!
Name BIDAGUAS: #REF!
Name BIDAGUAS: #REF!
Name BIDAGUAS: #REF!
Name BIDAGUAS: #REF!
Name CDEC: '[1]ENER-SEPT'!$A$1:$A$1494
Name CODIGO: [1]ACTIVIDADES!$A$2:$A$8
Name concep: #REF!
Name concep: #REF!
Name concep: #REF!
Name concep: #REF!
Name concep: #REF!
Name CONSODETA: #REF!,#REF!,#REF!,#REF!,#REF!,#REF!
Name CONSODETA: #REF!,#REF!,#REF!,#REF!,#REF!,#REF!
Name CONSODETA: #REF!,#REF!,#REF!,#REF!,#REF!,#REF!
Name CONSODETA: #REF!,#REF!,#REF!,#REF!,#REF!,#REF!
Name CONSODETA: #REF!,#REF!,#REF!,#REF!,#REF!,#REF!
Name CONSODETA: #REF!,#REF!,#REF!,#REF!,#REF!,#REF!
Name consolidado: #REF!,#REF!,#REF!
Name consolidado: #REF!,#REF!,#REF!
Name consolidado: #REF!,#REF!,#REF!
Name consolidado: #REF!,#REF!,#REF!
Name consolidado: #REF!,#REF!,#REF!
Name DEPARTAMENTO: '[2]fORMATO 20.1'!$AX$8:$AX$39
Name deuda99: #REF!,#REF!,#REF!,#REF!
Name deuda99: #REF!,#REF!,#REF!,#REF!
Name deuda99: #REF!,#REF!,#REF!,#REF!
Name deuda99: #REF!,#REF!,#REF!,#REF!
Name deuda99: #REF!,#REF!,#REF!,#REF!
Name deudamensual: #REF!,#REF!,#REF!
Name deudamensual: #REF!,#REF!,#REF!
Name deudamensual: #REF!,#REF!,#REF!
Name deudamensual: #REF!,#REF!,#REF!
Name deudamensual: #REF!,#REF!,#REF!
Name Excel_BuiltIn_Print_Area: #REF!
Name Excel_BuiltIn_Print_Area: #REF!
Name Excel_BuiltIn_Print_Area: #REF!
Name Excel_BuiltIn_Print_Area: #REF!
Name Excel_BuiltIn_Print_Area: #REF!
Name FECHA2012: [3]FECHA!$A:$IV
Name iiiiiii: '[4]OCT-DIC'!$B$1:$B$1404
Name INGADMON: #REF!
Name INGADMON: #REF!
Name INGADMON: #REF!
Name INGADMON: #REF!
Name INGADMON: #REF!
Name ll: '[1]ENER-SEPT'!$B$1:$B$1494
Name NOMCDEA: '[1]OCT-DIC'!$B$1:$B$1404
Name NOMCDEC: '[1]ENER-SEPT'!$B$1:$B$1494
Name ñ: #REF!

Sheet F-CF-RC-015
A1: Código: F-CF-RC-015 | D1: Plan de Mejoramiento Único | Q1: Estado de las Acciones de Mejoramiento en último seguimiento (Según: % Cumplimiento de las Acciones y % Cumplimiento del Objetivo (Efectividad)
A2: Versión: 04
A3: Entidad: ESE Metrosalud | M3: Período Fiscal: 2026
A4: Formulación de las Acciones y Objetivos | M4: Seguimiento | O4: Observaciones
A5: Nombre de la Auditoría | B5: Fecha de la Auditoría (aaaa-mm-dd) | C5: Nº | D5: Descripción del Hallazgo | E5: Hallazgo Administrativo | F5: Acción de Mejoramiento/Correctiva | G5: Plazo de la Acción | I5: Objetivo que se Busca Lograr | J5: Fecha Cumplimiento del Objetivo | K5: Responsable | M5: Cumplimiento de las Acciones % | N5: (Efectividad) Cumplimiento del Objetivo % | AF5: Responsable
E6: (Lista desplegable) | G6: Fecha de Inicio (aaaa-mm-dd) | H6: Fecha de Terminación (aaaa-mm-dd) | K6: Dependencia | L6: Servidor | S6: Gerencia | T6: *Subgerencia Red de Servicios | U6: *Subgerencia Administrativa y Financiera | V6: *Dirección de Contratación | W6: *Dirección Administrativa | X6: *Dirección de Sistemas de Información | Y6: *Dirección de Venta de Servicios | Z6: *Oficina Asesora de Planeación y Desarrollo Organizacional | AA6: *Oficina de Salud Pública y Gestión Territorial | AB6: *Oficina Jurídica | AC6: *Oficina de Control Interno y Evaluación | AD6: *Oficina de Control Interno Disciplinario | AE6: *Dirección de Talento Humano | AF6: Dependencia | AG6: Servidor
A7: Auditoría regular vigencia 2017 | B7: 43357 | C7: 6 | D7: Hallazgo 6 que corresponde a la observación 7 del informe preliminar. Deficiencias en la rendición de la cuenta. Se evidencian deficiencias en la rendición, presentación y rendición de información de la cuenta, a través del aplicativo Gestión Transparente, incumpliendo con lo establecido en la Resolución 170 de 18 de diciembre de 2017, hecho evidenciado en la rendición de los 1.proyectos de inversión que no tienen asociados los contratos celebrados, 2.la información que contiene el formato de litigios y demandas, no corresponde con la información reportada en los estados financieros en relación con las demandas laborales,3. los pagos de los contratos, aún no son asociados y reportados en el aplicativo de Gestión Transparente, 4.los estados de información financiera no fue rendido oportunamente en forma comparativa como lo indica la norma, el estado de la situación financiera a diciembre 31 de 2017 bajado del aplicativo Gestión Transparente, indica en el título, que esta rendido en pesos, pero en el mismo se evidencia que las cifras fueron presentadas en miles; situación que se presenta por falta de controles frente al funcionario encargado de rendir la información, lo que dificulta la labor de la Contraloría en el ejercicio del control fiscal. Hallazgo administrativo. | E7: Administrativa | F7: Realizar la rendición de la cuenta e informes, en las fechas y forma establecidas por la Contraloría General de Medellín en la resolución 170 de 2017, directamente en el sistema de información “Gestión Transparente”. | G7: 43344 | H7: 43511 | I7: Rendir de forma correcta y oportuna la información solicitada por la Contraloría General de Medellín y dar cumplimiento a la normatividad vigente sobre la Rendición y Revisión de la Cuenta e Informes por parte de la ESE Metrosalud | J7: 43511 | K7: Subgerencia Administrativa y Financiera, Oficina Asesora de Planeación y Desarrollo Organizacional, Oficina Jurídica, Dirección Contratación | L7: =VLOOKUP(K7,'DEPENDENCIAS-RESPONSABLES'!B:C,2,FALSE) -> Adriana María Taborda Zapata (Subgerente Administrativo y Financiero - E), Natalia Peláez Miyar (Jefe Oficina Asesora de Planeación y Desarrollo Organizacional), Adriana María Velásquez Arango (Jefe Oficina Jurídica), Esperanza Peñaranda Pineda (Directora Operativa de Contratación) | M7: 1 | N7: 1 | O7: Enero 15: Abierta. No se cierra toda vez que en la auditoría realizada en la vigencia 2020, se evidencio que persisten las inconsistencias en la rendición de la cuenta Mayo 18: Se verifica que la rendicion de cuenta se da en los tiempos establecidos, ademas se envia una informacion previa al enlace de la Contraloria, con el fin de que se revise y retroalimente a los responsables en posibles impresiciones. Noviembre 2022: Se solicitan certificados o patallazos que acrediten que la rendicion de la cuenta se dio de forma correcta y en los tiempos establecidos Enero 2023:Teniendo en cuenta las fecha para la rendiciòn cuentas, "Se dara por cumplida el 28/02/2023. Septiembre 2023: Este hallazgo continua abierto de acuerdo con el Informe Definitivo de la Auditoría Financiera y de Gestión de la vigencia 2022, el cual al no la relaciona como cerrada y entonces se presume que esá abierta. Febrero 2024: Se solicitò a los responsables el avance de las acciónes realizadas y no presentaron evidencias. Abril 2024: De acuerdo con el informe de la Contraloría de agosto 2023 "Informe Definitivo Gestión Fiscal Integral Auditoría Financiera y de Gestión vigencia 2022 E.S.E. Metrosalud", no se hace mención a esta acción (cuadros 23, 24, 25, pg 65, 66, 67 del informe). Continúa ABIERTA en PAPEL DE TRABAJO PT 03-PF EVALUACIÓN PLAN DE MEJORAMIENTO de la contraloría Julio 2024: Para la rendición de la cuenta vigencia 2023 se asignó un profesional contratista de la Oficina de Control Interno para el seguimiento de la rendición de la cuenta por parte de las dependencias de la ESE. Se adjunta memorando de asignación de la evaluación - Memorando de notificación de la Oficina a cada responsable de la rendiciónd de la Cuenta - Informe correspondiente al seguimiento realizado por Control Interno al cumplimiento de la rendición de la cuenta vigencia 2023. Verificación anual que se continuara incluyendo en el plan de evaluaciones. Cumplimiento 80% - Efectividad 80%. Continua ABIERTA hasta nueva valoración de la Contraloria. Agosto 2024: Sin evidencia de avance de la acción de mejora por parte de los responsables del cumplimiento. Cumplimiento 80% - Efectividad 80%. Septiembre 2024: Sin evidencia de avance de la acción de mejora por parte de los responsables del cumplimiento. De acuerdo al hallazgo 10 de la Auditoria Financiera y de Gestión Vigencia 2023, el cual hace referencia a las Debilidades en la rendición de la información en Gestión Transparente (GT), se plantea la siguiente acción de mejoramiento: Emitir acto administrativo por medio del cual el Gerente de la ESE Metrosalud relacione los cargos de los servidores públicos en quienes delegue la función y responsabilidad de rendir la cuenta en el Sistema de Información Gestión Transparente (GT), de acuerdo con lo dispuesto en la Resolución 0460 del 24 de abril de 2024 expedida por la Contraloría Distrital Medellín y las normas que la sustituyan, adicionen o modifiquen, y comunicarlo a los delegatarios para que procedan de conformidad. Cumplimiento 0% - Efectividad 0%. Octubre 2024: Sin evidencia de avance de la acción de mejora por parte de los responsables del cumplimiento. Cumplimiento 0% - Efectividad 0%. Noviembre 2024: Sin evidencia de avance de la acción de mejora por parte de los responsables del cumplimiento. Cumplimiento 0% - Efectividad 0%. Diciembre 2024: Sin evidencia de avance de la acción de mejora por parte de los responsables del cumplimiento. Cumplimiento 0% - Efectividad 0% Enero 2025: Sin evidencia de avance de la acción de mejora por parte de los responsables del cumplimiento. Febrero 2025: Sin evidencia de avance de la acción de mejora por parte de los responsables del cumplimiento. Marzo 2025: Se realizó seguimiento conjunto con la Contraloría Distrital de Medellín y ellos están evaluando las evidencias durante la Auditoría Financiera y de Gestión de la vigencia 2024. Abril 2025: Se realizó seguimiento conjunto con la Contraloría Distrital de Medellín y ellos están evaluando las evidencias durante la Auditoría Financiera y de Gestión de la vigencia 2024. Mayo 2025: Se realizó seguimiento conjunto con la Contraloría Distrital de Medellín y ellos están evaluando las evidencias durante la Auditoría Financiera y de Gestión de la vigencia 2024. Junio 2025: Actualmente la Contraloría Distrital de Medellín está realizando la auditoría para la vigencia 2024, y está realizando la verificación de las evidencias de esta acción. Julio 2025: Actualmente la Contraloría Distrital de Medellín está realizando la auditoría para la vigencia 2024, y está realizando la verificación de las evidencias de esta acción. Agosto 2025: Posterior a la auditoría de gestión de la Contraloría Distrital de Medellín vigencia 2024, se está a la espera de los resultados del informe para el cierre del hallazgo. Septiembre 2025: Se cierra esta acción de acuerdo con el informe definitivo de la Auditoria Financiera, de Gestión y Resultados vigencia 2024, emitido por la Contraloría Distrital de Medellín en septiembre de 2025. ESTADO: CERRADA - Verificado en Informe Definitivo Auditoria Financiera, de Gestión y Resultados vigencia 2024, con fecha de septiembre 2025. | Q7: =IF(OR(F7="",M7="",M7=""),"-",IF(AND(M7=100%,N7=100%),"Cerrada","Abierta")) -> Cerrada | R7: =IF(F7="",0,1) -> 1 | U7: Subgerencia Administrativa y Financiera | V7: Dirección de Contratación | Z7: Oficina Asesora de Planeación y Desarrollo Organizacional | AB7: Oficina Jurídica | AF7: ='[5]F-CF-RC-012'!K7 -> Subgerencia Administrativa y Financiera Oficina de Planeación y Desarrollo Organizacional Oficina Asesora Jurídica Dirección Administrativa | AG7: ='[5]F-CF-RC-012'!L7 -> Olga Mery López Castaño Gustavo Hernández Giraldo Clemencia Toro Briceño Olga Cecilia Mejía Jaramillo
A8: Evaluación componente control financiero vigencia 2018 | B8: 43585 | C8: 3 | D8: Las cuentas por cobrar no corrientes a diciembre 31 a ascienden a $3.213 millones, producto de un saldo de cuentas por cobrar de $41.095 millones, menos (-) el deterioro acumulado por $37.881 millones para un saldo total de $3.213 millones. Al analizar el deterioro por prestación de servicios de salud se observó que en las revelaciones, en el cálculo del deterioro de las entidades en liquidación (página 33), existen 4 entidades repetidas, incumpliendo con lo estipulado en el marco normativo de la Contaduría General de la Nación anexo 2 “Reconocimiento y revelación de hechos económicos”. Lo anterior por deficiencias en el control de la preparación de la información, lo que puede generar interpretación errónea de la información contable | E8: Administrativa | F8: Implementar un control en el procedimiento de elaboración de las revelaciones a los estados financieros, que consiste en una revisión final realizado por el equipo de los líderes del área financiera; dejando constancia de los funcionarios que participaron en la verificación final de las revelaciones. . | G8: 43647 | H8: 43876 | I8: Revisar e informar correctamente en la revelación del deterioro de cartera los datos mas importantes en el calculo de las mismas según las políticas internas NIIF | J8: 15/02/2020 | K8: Subgerencia Administrativa y Financiera (Contabilidad) | L8: =VLOOKUP(K8,'DEPENDENCIAS-RESPONSABLES'!B:C,2,FALSE) -> Adriana María Taborda Zapata (Subgerente Administrativo y Financiero - E), Juan Felipe Parra Peña (Líder de Programa Contabilidad) | M8: 1 | N8: 1 | O8: Enero 2023: El procedimiento de gestión contable disponible en la intranet contiene la acción o tarea de preparar revelaciones a los Estados financieros con observancia a las normas establecidas; sin embargo no tiene el control propuesto de revisión final por los lideres del área financiera. Además la lider de Contabilidad avanzó, con base en lo sugerido desde la Oficina de Control Interno, en la preparación de la plantilla de control que permita comparar las politicas y los estandares para cada una de las revelaciones. Al momento de realizar el seguimiento a este plan de mejoramiento áun no se elaboraban las notas explicativas correspondientes al 2019, pues se estaba dentro del plazo establecido; no obstante las mismas se recibieron el 17/02/2020 y se pudo observar que en el cuadro correspondiente al deterioro del 2019, relacionado con las entidades liquidadas, no tiene entidades repetidas.. Corresponde a una misma entidad, segregada por cada regimen... Mayo 18 de 2022: Se revisara la inclusion del tema aun pendiente en el procedimiento de revelaciones a los estados ficnancieros - Grupo financiera liderado por la Doctora Celmira Giraldo plantea como nueva fecha de cumplimiento la primera semana de julio (primer miercoles) Noviembre 2022: Es necesario, actualizar el procedimiento de revelaciones a los estados financieros, incorporando la actividad de revision final que deben realizar los lideres del area financiera. Diciembre 2022: En el PA05 PR 50 - Procedimiento Gestión Contable, publicado en el aplicativo Almera con corte a noviembre de 2022, si bien se indica que es responsabilidad de la líder Programa contable preparar revelaciones a los Estados financieros con observancia a las normas establecidas por la Contaduría General de la Nación, no se evidencia en el procedimiento la actividad de revisión final por parte del equipo de líderes del área financiera. Enero 2023: "Se dara por cumplida el 28/02/2023. revisar en el procedimiento si esta documentado". Febrero 2024: Se solicitò a los responsables el avance de las acciónes realizadas y no presentaron evidencias. Abril 2024: De acuerdo con el informe de la Contraloría de agosto 2023 "Informe Definitivo Gestión Fiscal Integral Auditoría Financiera y de Gestión vigencia 2022 E.S.E. Metrosalud", no se hace mención a esta acción (cuadros 23, 24, 25, pg 65, 66, 67 del informe). Continúa ABIERTA en PAPEL DE TRABAJO PT 03-PF EVALUACIÓN PLAN DE MEJORAMIENTO de la contraloría Julio 2024: Sin evidencias de avance en la acción de mejoramiento por parte de los responsables del cumplimiento. Cumplimiento: 50%, Efectividad 50% Agosto 2024: Sin evidencia de avance de la acción de mejora por parte de los responsables del cumplimiento.Cumplimiento: 50% - Efectividad 50% Septiembre 2024: Seguimiento Oficina Control Interno y Evaluación: Se evalúa las siguientes evidencias: Actualización del PROCEDIMIENTO GESTIÓN CONTABLE PA05 PR 50, con fecha del 06 de septiembre en el aplicativo SIG Almera, donde se genera el control con referencia a revisar en comité financiero las revelaciones con el fin de realizar los ajustes y correcciones antes de ser formalizado y rendido (anualmente) en caso de que se presenten no conformidades al responsable de la información será el encargado de corregirla, se debe presentar como evidencia el acta del comité financiero, el control y la efectividad se valorará en el me de enero del 2025.Queda pendiente 1- De acuerdo a la recomendación realizada por la oficina de Planeación: El despliegue del procedimiento actualizado del mismo a los servidores que intervienen en él, utilizando el formato PE02 FR 437FR REGISTRO DE ASISTENCIA REUNIÓN Y/O CAPACITACIÓN. 2- Prueba de conocimiento para ello se solicita informar la relación de servidores (Cargos y nombres completos) a los cuales debe darse a conocer (Desplegar) el procedimiento en mención. Se envía notificación a los responsables. Cumplimiento Almera 50% Cumplimiento: 50% - Efectividad 50% Octubre 2024: Seguimiento Oficina Control Interno y Evaluación: se evalúa la evidencia registrada sin que demuestre avance en la ejecución de la acción de mejora y posterior a ello el procedimiento ya aprobado y PUBLICADO en el SGI Almera. Continúa abierto el hallazgo de la Contraloría Distrital de Medellín. Se envía notificación a los responsables. Cumplimiento 50% Noviembre 2024: Seguimiento Oficina Control Interno y Evaluación: se evalúa la evidencia registrada sin que demuestre avance en la ejecución de la acción de mejora y posterior a ello el procedimiento ya aprobado y PUBLICADO en el SGI Almera. Continúa abierto el hallazgo de la Contraloría Distrital de Medellín. Se envía notificación a los responsables. Cumplimiento 50% Diciembre 2024: Seguimiento Oficina Control Interno y Evaluación: se evalúa la evidencia registrada sin que demuestre avance en la ejecución de la acción de mejora y posterior a ello el procedimiento ya aprobado y PUBLICADO en el SGI Almera. Continúa abierto el hallazgo de la Contraloría Distrital de Medellín. Se envía notificación a los responsables. Cumplimiento 50% Enero 2025: Se evalua evidencia registrada en el sistema de gestión institucional ALMERA, quedando pendiente el despliegue del procedimiento modificado y copia de actas de comité. Febrero 2025: En proceso de avance de las acciones de mejora por parte de los responsables del cumplimiento. Marzo 2025: Se realizó seguimiento conjunto con la Contraloría Distrital de Medellín y ellos están evaluando las evidencias durante la Auditoría Financiera y de Gestión de la vigencia 2024. Abril 2025: Se realizó seguimiento conjunto con la Contraloría Distrital de Medellín y ellos están evaluando las evidencias durante la Auditoría Financiera y de Gestión de la vigencia 2024. Mayo 2025: Se realizó seguimiento conjunto con la Contraloría Distrital de Medellín y ellos están evaluando las evidencias durante la Auditoría Financiera y de Gestión de la vigencia 2024. Junio 2025: Actualmente la Contraloría Distrital de Medellín está realizando la auditoría para la vigencia 2024, y está realizando la verificación de las evidencias de esta acción. Julio 2025: Actualmente la Contraloría Distrital de Medellín está realizando la auditoría para la vigencia 2024, y está realizando la verificación de las evidencias de esta acción. Agosto 2025: Posterior a la auditoría de gestión de la Contraloría Distrital de Medellín vigencia 2024, se está a la espera de los resultados del informe para el cierre del hallazgo. Septiembre 2025: Se cierra esta acción de acuerdo con el informe definitivo de la Auditoria Financiera, de Gestión y Resultados vigencia 2024, emitido por la Contraloría Distrital de Medellín en septiembre de 2025. ESTADO: CERRADA - Verificado en Informe Definitivo Auditoria Financiera, de Gestión y Resultados vigencia 2024, con fecha de septiembre 2025. | Q8: =IF(OR(F8="",M8="",M8=""),"-",IF(AND(M8=100%,N8=100%),"Cerrada","Abierta")) -> Cerrada | R8: =IF(F8="",0,1) -> 1 | U8: Subgerencia Administrativa y Financiera | AF8: ='[5]F-CF-RC-012'!K8 -> Contabilidad | AG8: ='[5]F-CF-RC-012'!L8 -> Luz Stella Castrillón
A9: Auditoría Regular Resultados Evaluación Componente Financiero 2019 | B9: 43963 | C9: 1 | D9: Falta de coherencia en las revelaciones de carácter general y específico: Las revelaciones de carácter generales de la cuenta “Propiedad planta y equipo”, relacionadas con la vida útil de cada grupo y clase de propiedad, planta y equipo, no son coherentes con las notas o revelaciones específicas relacionadas con los mismos bienes. Lo anterior, evidencia incumplimiento a lo establecido en las políticas contables bajo el nuevo marco normativo (NIIF) propiedades, planta y equipo V2 (Grupo 2), causado por deficiencias en el control de la preparación de la información, generando incertidumbre sobre la vida útil definida para efectos de calcular la depreciación y deterioro de estos activos. | E9: Administrativa | F9: Elaborar una plantilla de control que contenga el estándar para cada una de las revelaciones que se debe hacer a las subcuentas que integran los grupos contables. Implementar un control en el procedimiento de elaboración de las revelaciones a los estados financieros, que consiste en una revisión final realizado por el equipo de los líderes del área financiera; dejando constancia de los funcionarios que participaron en la verificación final de las revelaciones. . | G9: 43983 | H9: 44012 | I9: Implementar controles para la elaboración de las revelaciones a los estados financieros | J9: 44242 | K9: Subgerencia Administrativa y Financiera (Contabilidad) | L9: =VLOOKUP(K9,'DEPENDENCIAS-RESPONSABLES'!B:C,2,FALSE) -> Adriana María Taborda Zapata (Subgerente Administrativo y Financiero - E), Juan Felipe Parra Peña (Líder de Programa Contabilidad) | M9: 1 | N9: 1 | O9: Mayo 18: Replantear: La subgerente financiera indica que la solucion debe estar encaminada en que las revelaciones y las politicas sean coherentes con las NIF. . Socializar las politicas financieras, comparadas con las revelaciones y las normas establecidas por la Contaduria y luego revisar como se estan haciendo las revelaciones para dar cumplimiento a lo establecido y realizar seguimiento al cumplimiento de las politicas Noviembre 2022: No se evidencia el procedimiento donde se identifique la correcta relacion de las revelaciones, acorde a la normatividad vigente Se recomienda efectuar la socialización de las politicas contables y los procedimientos, asi mismo dejar la evidencia correspondiente. Enero 2023: Se recomienda efectuar la socialización, de las politicas contables y los diferentes procedimientos, asi mismo dejar la evidencia correspondiente. El procedimiento esta igual, desde que se dejo la observaciòn por la contraloria Septiembre 2023: Este hallazgo continua abierto de acuerdo con el Informe Definitivo de la Auditoría Financiera y de Gestión de la vigencia 2022, el cual al no la relaciona como cerrada y entonces se presume que esá abierta. Febrero 2024: Se solicitò a los responsables el avance de las acciónes realizadas y no presentaron evidencias. Abril 2024: De acuerdo con el informe de la Contraloría de agosto 2023 "Informe Definitivo Gestión Fiscal Integral Auditoría Financiera y de Gestión vigencia 2022 E.S.E. Metrosalud", esta acción no se relaciona como abierta o cerrada (cuadros 23, 24, 25, pg 65, 66, 67 informe). Está ABIERTA en PAPEL DE TRABAJO PT 03-PF EVALUACIÓN PLAN DE MEJORAMIENTO de la contraloría Julio 2024: Sin evidencias de avance en la acción de mejoramiento por parte de los responsables del cumplimiento. Cumplimiento: 60%, Efectividad 60% Agosto 2024: Sin evidencia de avance de la acción de mejora por parte de los responsables del cumplimiento. Cumplimiento: 60% - Efectividad 60% Septiembre 2024: Se evidencia avance de la acciòn de mejora por parte del responsable en el procedimiento gestiòn contable PA05 PR50, quedando pendiente el despliegue del procedimiento actualizado del mismo a los servidores que intervienen en el, realizar la prueba de conocimiento para ello se solicita informar la revelaciòn de servidores (Cargos y nombres completos) a los cuales debe darse a conocer (Desplegar) el procedimiento en mención y Plantilla de control que contenga los estándares de las revelaciones. Cumplimiento: 60% - Efectividad 60% Octubre 2024: Se evidencia la plantilla que contiene la base para la realización de los estados financieros a las subcuentas que integran los grupos contables ( revelaciones), la cual hace falta la socialización con las áreas involucradas en el proceso. Cumplimiento: 60% - Efectividad 60% Noviembre 2024: Se evidencia la plantilla que contiene la base para la realización de los estados financieros a las subcuentas que integran los grupos contables ( revelaciones), la cual hace falta la socialización con las áreas involucradas en el proceso. Cumplimiento: 60% - Efectividad 60% Diciembre 2024: Se evidencia la plantilla que contiene la base para la realización de los estados financieros a las subcuentas que integran los grupos contables ( revelaciones), la cual hace falta la socialización con las áreas involucradas en el proceso. Cumplimiento: 60% - Efectividad 60%. Enero 2025: Los responsables presentaron avance en las evidencias de las acciones de mejora, sin embargo queda pendiente adjuntar la totalidad. Febrero 2025: Los responsables presentaron avance en las evidencias de las acciones de mejora, sin embargo queda pendiente adjuntar la totalidad. Marzo 2025: Se realizó seguimiento conjunto con la Contraloría Distrital de Medellín y ellos están evaluando las evidencias durante la Auditoría Financiera y de Gestión de la vigencia 2024. Abril 2025: Se realizó seguimiento conjunto con la Contraloría Distrital de Medellín y ellos están evaluando las evidencias durante la Auditoría Financiera y de Gestión de la vigencia 2024. Mayo 2025: Se realizó seguimiento conjunto con la Contraloría Distrital de Medellín y ellos están evaluando las evidencias durante la Auditoría Financiera y de Gestión de la vigencia 2024. Junio 2025: Actualmente la Contraloría Distrital de Medellín está realizando la auditoría para la vigencia 2024, y está realizando la verificación de las evidencias de esta acción. Julio 2025: Actualmente la Contraloría Distrital de Medellín está realizando la auditoría para la vigencia 2024, y está realizando la verificación de las evidencias de esta acción. Agosto 2025: Posterior a la auditoría de gestión de la Contraloría Distrital de Medellín vigencia 2024, se está a la espera de los resultados del informe para el cierre del hallazgo. Septiembre 2025: Se cierra esta acción de acuerdo con el informe definitivo de la Auditoria Financiera, de Gestión y Resultados vigencia 2024, emitido por la Contraloría Distrital de Medellín en septiembre de 2025. ESTADO: CERRADA - Verificado en Informe Definitivo Auditoria Financiera, de Gestión y Resultados vigencia 2024, con fecha de septiembre 2025. | Q9: =IF(OR(F9="",M9="",M9=""),"-",IF(AND(M9=100%,N9=100%),"Cerrada","Abierta")) -> Cerrada | R9: =IF(F9="",0,1) -> 1 | U9: Subgerencia Administrativa y Financiera | AF9: ='[5]F-CF-RC-012'!K9 -> Financiero | AG9: ='[5]F-CF-RC-012'!L9 -> Luz Stella Castrillón
A10: Auditoría Regular vigencia 2019 | B10: 44183 | C10: 2 | D10: Debilidades en la planeación: El contrato 3172 de 2019, cuyo objeto fue la prestación de servicios asistenciales en la UPSS donde la ESE Metro salud requiera sus servicios, por un valor de $420.000.000, el cual fue firmado el 4 de julio de 2019, e inició el 4 de julio de 2019, tuvo ampliación hasta el 31 de octubre de 2019 con adición de $210.000.000, el grupo auditor observó que desde los estudios previos, no se especifica la cantidad de médicos y odontólogos que se requieren en las diferentes UPSS para prestar sus servicios, incumpliéndose con el principio de planeación contractual contemplado en el artículo 14 del Estatuto de Contratación de la ESE Metrosalud, concretamente en la elaboración de los estudios previos numeral 14.1.2 al disponer que los estudios y documentos previos son el soporte para tramitar los procesos de contratación de Metrosalud, los cuales deben contener entre otros los siguientes elementos: “ Objeto a contratar con sus especificaciones técnicas…” situaciones originadas por deficientes controles en el proceso de contratación generando posibles riesgos en el manejo del recurso público. | E10: Administrativa | F10: implementar controles desde la etapa de Planeación en la elaboración de las especificaciones técnicas, teniendo presente el detalle de cada uno de los elementos a contratar | G10: 44200 | H10: 44316 | I10: fortalecer la etapa precontractual con una buena Planeación de las necesidades a contratar por parte de la ESE | J10: 44316 | K10: Dirección de Venta de Servicios | L10: =VLOOKUP(K10,'DEPENDENCIAS-RESPONSABLES'!B:C,2,FALSE) -> Cecilia María Taborda Pérez (Director de Venta de Servicios) | M10: 1 | N10: 1 | O10: Enero 2022: Continua abierta Mayo 2022: Continua abierta Nota: Las acciones, no permiten lograr la efectividad para el cierre del hallazgo. Tambien es necesario revisar la asignacion del responsable Noviembre 2022: Se requiere evidencia en la que se verifique que en los contratos posteriores a este hallazgo, estan debidamente descritas las especificaciones tecnicas en los estudios previos, dando cumplimiento al estatuto de contratacion (solicitar muestreo) Enero 2023:Este tipo de contratación se realiza cuando el recurso humano de planta de cargos es insuficiente para responder a las obligaciones que se adquieren con las diferentes EAPB. Cuando se hace la fase de Planeación de estos contratos no es posible definir un número determinado de personal a necesitar al inicio del contrato, el monto del contrato se determina de acuerdo a la expectativas que se tienen frente al crecimiento de la demanda. Lo anterior, nos permite tener celeridad y oportunidad en la respuesta en la atención de los usuarios. La minuta brinda al Supervisor los elementos necesarios para el control a la ejecución de este, incluyendo los incrementos y/o disminución del recurso humano. Actualmente En la etapa de planeación del contrato se estima el tiempo que no es posible cubrir con recurso humano de planta de cargo para la prestación del servicio de salud , estos tiempos se dejan en el estudio previo dentro de las obligaciones del contratista ,para que el tercero lo cubra con el personal solicitado , de igual manera se deja claro en la minuta las tarifas a pagar a la agremiación por la prestación del servicio, si este es prestado en horario diurno, nocturno, dominical o festivo.. Abril 2024: De acuerdo con el informe de la Contraloría de agosto 2023 "Informe Definitivo Gestión Fiscal Integral Auditoría Financiera y de Gestión vigencia 2022 E.S.E. Metrosalud", esta acción quedó CERRADA (cuadro 25, pg 67-informe). Está CERRADA en PAPEL DE TRABAJO PT 03-PF EVALUACIÓN PLAN DE MEJORAMIENTO de la contraloría. Observación de la contraloría: Se revisa los estudios previos de los nuevos procesos contractuales para la contratación de personal asistencial y se verifica que en ellos se especifica el personal que se requiere, el sitio donde se requieres, el número de horas a trabajar por día y el período para el cual se requiero dicho personal. Por lo tanto se cierra la acción, pues se corrigió mla debilidad detectada en la etapa de planeación en este tipo de proceso contractual. ESTADO: Cerrada | Q10: =IF(OR(F10="",M10="",M10=""),"-",IF(AND(M10=100%,N10=100%),"Cerrada","Abierta")) -> Cerrada | R10: =IF(F10="",0,1) -> 1 | Y10: Dirección de Venta de Servicios | AF10: ='[5]F-CF-RC-012'!K10 -> Dirección Venta de Servicios | AG10: ='[5]F-CF-RC-012'!L10 -> Juan Carlos Tamayo Suárez
A11: Auditoría Regular vigencia 2019 | B11: 44183 | C11: 4 | D11: Documentación incompleta de contratistas: La ESE Metrosalud suscribió el contrato1581 de 2019, con la Federación Gremial de Trabajadores de la Salud-FEDSALUD, para cumplir con el objeto de prestar los servicios especializados de anestesia, para la realización de los procedimientos quirúrgicos y la consulta preanestésica en las unidades hospitalarias de la Empresa Social del Estado Metrosalud que tengan en su portafolio los servicios quirúrgicos. Revisados los registros anexos del personal contratado por Fedsalud para el cumplimiento del objeto del contrato, no figuran documentos de seguridad social de algunos contratistas. Lo anterior se presenta por deficiencias en los controles al proceso de contratación, generando posibles riesgos laborales y demandas. | E11: Con Incidencia Administrativa y Disciplinaria | F11: Verificar los documentos soportes de las hojas de vida, dejando evidencia en el informe tecnico de evaluacion de la propuesta | G11: 44201 | H11: 44561 | I11: Asegurar que los soportes de las hojas de vida aportadas con las propuestas se encuentren completas | J11: 44377 | K11: Dirección de Contratación | L11: =VLOOKUP(K11,'DEPENDENCIAS-RESPONSABLES'!B:C,2,FALSE) -> Esperanza Peñaranda Pineda (Directora Operativa de Contratación) | M11: 1 | N11: 1 | O11: Enero 2022: Continua abierta Mayo 2022: Como consecuencia de este hallazgo se programó una auditoria desde la Oficina de Control Interno para verificar la supervision de una muestra de contratos de la vigencia 2021, donde se evidencia que la situacion permanece, ratificando el hallazgo de la Contraloria Noviembre 2022: Esta Auditoria de seguimiento, quedara inlcuida en el Plan General de evaluacionde 2023. Enero 2023:Esta Auditoria de seguimiento, quedara inlcuida en el Plan General de evaluacionde 2023. Septiembre 2023: Este hallazgo continua abierto de acuerdo con el Informe Definitivo de la Auditoría Financiera y de Gestión de la vigencia 2022, el cual al no la relaciona como cerrada y entonces se presume que esá abierta. Febrero 2024: Se solicitò a los responsables el avance de las acciónes realizadas y no presentaron evidencias. Abril 2024: De acuerdo con el informe de la Contraloría de agosto 2023 "Informe Definitivo Gestión Fiscal Integral Auditoría Financiera y de Gestión vigencia 2022 E.S.E. Metrosalud", esta acción no se relaciona como abierta o cerrada (cuadros 23, 24, 25, pg 65, 66, 67 informe). Está ABIERTA en PAPEL DE TRABAJO PT 03-PF EVALUACIÓN PLAN DE MEJORAMIENTO de la contraloría Julio 2024: Se evidencia cumplimiento de requisitos en los contratos posteriores a los hallazgos (informe de evaluación tecnica de ofertas - PA 03 FR 40, la cual analiza que se cumplan los requisitos habilitantes, entre otros anexar CD con las hojas de vida y soportes del personal requerido). Cumplimiento: 100%, Efectividad 0% Agosto 2024: Pendiente valoracion de las evidencias por parte de la Contraloria Distrital. Cumplimiento: 100% - Efectividad Septiembre 2024: Pendiente valoracion de las evidencias por parte de la Contraloria Distrital. Cumplimiento: 100% - Efectividad 100% Octubre 2024: Pendiente valoracion de las evidencias por parte de la Contraloria Distrital. Cumplimiento: 100% - Efectividad 100% Noviembre 2024: Pendiente valoracion de las evidencias por parte de la Contraloria Distrital. Cumplimiento: 100% - Efectividad 100% Diciembre 2024: Pendiente valoración de las evidencias por parte de la Contraloría Distrital de Medellín. Enero 2025: Pendiente valoración de las evidencias por parte de la Contraloría Distrital de Medellín. Febrero 2025: Pendiente valoración de las evidencias por parte de la Contraloría Distrital de Medellín. Marzo 2025: Se realizó seguimiento conjunto con la Contraloría Distrital de Medellín y ellos están evaluando las evidencias durante la Auditoría Financiera y de Gestión de la vigencia 2024. Abril 2025: Se realizó seguimiento conjunto con la Contraloría Distrital de Medellín y ellos están evaluando las evidencias durante la Auditoría Financiera y de Gestión de la vigencia 2024. Mayo 2025: Se realizó seguimiento conjunto con la Contraloría Distrital de Medellín y ellos están evaluando las evidencias durante la Auditoría Financiera y de Gestión de la vigencia 2024. Junio 2025: Actualmente la Contraloría Distrital de Medellín está realizando la auditoría para la vigencia 2024, y está realizando la verificación de las evidencias de esta acción. Julio 2025: Actualmente la Contraloría Distrital de Medellín está realizando la auditoría para la vigencia 2024, y está realizando la verificación de las evidencias de esta acción. Agosto 2025: Posterior a la auditoría de gestión de la Contraloría Distrital de Medellín vigencia 2024, se está a la espera de los resultados del informe para el cierre del hallazgo. Septiembre 2025: Se cierra esta acción de acuerdo con el informe definitivo de la Auditoria Financiera, de Gestión y Resultados vigencia 2024, emitido por la Contraloría Distrital de Medellín en septiembre de 2025. ESTADO: CERRADA - Verificado en Informe Definitivo Auditoria Financiera, de Gestión y Resultados vigencia 2024, con fecha de septiembre 2025. | Q11: =IF(OR(F11="",M11="",M11=""),"-",IF(AND(M11=100%,N11=100%),"Cerrada","Abierta")) -> Cerrada | R11: =IF(F11="",0,1) -> 1 | V11: Dirección de Contratación | AF11: ='[5]F-CF-RC-012'!K11 -> Dirección Administrativa - supervision del contrato | AG11: ='[5]F-CF-RC-012'!L11 -> Jhon Bayron Restrepo Jaramillo
A12: Auditoría Regular vigencia 2019 | B12: 44183 | C12: 5 | D12: Deficiencias en el proceso de selección del proveedor, incumplimiento al Manual de Contratación de la ESE Metrosalud: En la negociación adelantada entre la ESE Metrosalud y la firma Almera Information Management S.A.S, contrato 3143 de 2019. Se contempló la implementación de la plataforma como una de las obligaciones del proveedor, esta obligación hace parte integral del contrato, y es fundamental para poder hacer uso de la plataforma; el arrendador mediante factura N°1993 del 19 de diciembre de 2019, solicita cancelar el valor de $19’040.000 correspondiente a la implementación y puesta en marcha de la plataforma Almera Healt. Como se dejó evidenciado en el presente informe, con la propuesta presentada por la empresa Isolución su oferta comercial presentada fue la más económica en este componente, en virtud de que dentro de ella se incluye el componente “Implementación”, ofertado por valor de $17’992.800, se estaría cumpliendo con lo establecido en la ley 42 de 1993, artículos 8. Ahora bien, en vista que dicho ítem fue entregado por el proveedor el 5 de diciembre de 2019, y que fue recibido a entera satisfacción por parte de la ESE, y posteriormente facturado y pagado, a razón de $19’040.000, valor bruto, se tasa el hallazgo en $1’047.200,00; que es la diferencia del valor facturado por Almera Information Management S.A.S y con respecto al valor que cotizó la empresa Isolución por el mismo concepto. La irregularidad se materializa con el pago efectuado por la ESE, el día 13 de mayo de 2020 bajo la Orden de Pago TPGE-221359, con la cual cancelan a la firma contratista el valor acordado por la implementación; afectando con ello la situación financiera de la Entidad de Salud. Adicionalmente, la E.S.E Metrosalud estaría vulnerando lo estipulado en la Constitución Política Nacional, capítulo 5 de la Función Administrativa, Artículo 209. Esta observación, igualmente es constitutiva como falta gravísima, de acuerdo con lo establecido en el Código Disciplinario Único o la Ley 734 de 2020, libro II, capítulo I Faltas Gravísimas, Articulo 48, numeral 31. La anterior situación se estaría presentando por incumplimiento de requisitos legales, lo cual puede afectar el patrimonio de la empresa. | E12: Con Incidencia Administrativa, Fiscal y Disciplinaria | F12: Elaborar un formato de estudio de mercado para el caso que se requiera, a fin de diferenciar las cotizaciones del estudio de mercado de las ofertas presentadas dentro de los procesos de selección | G12: 44201 | H12: 44561 | I12: Diferenciar dentro del expediente las cotizaciones que hace parte de un estudio de mercado de las ofertas propias del proceso de selección | J12: 44377 | K12: Dirección de Contratación | L12: =VLOOKUP(K12,'DEPENDENCIAS-RESPONSABLES'!B:C,2,FALSE) -> Esperanza Peñaranda Pineda (Directora Operativa de Contratación) | M12: 1 | N12: 1 | O12: Enero 2022: Continua abierta Mayo 2022 Seguimiento Abril - Mayo 2022 - La oportunidad de mejora se encuentra cerrada, ya se incluyó en el formato Estudio de Mercado con código PA03 FR 456 alojado en Almera Noviembre 2022: Cerrada Abril 2024: De acuerdo con el informe de la Contraloría de agosto 2023 "Informe Definitivo Gestión Fiscal Integral Auditoría Financiera y de Gestión vigencia 2022 E.S.E. Metrosalud", esta acción quedó CERRADA (cuadro 25, pg 67-informe). Está CERRADA en PAPEL DE TRABAJO PT 03-PF EVALUACIÓN PLAN DE MEJORAMIENTO de la contraloría. Observación Contraloría: Se verificó el formato en Almera el cual está vigente a partir del 05/03/2022. En la revisión contractual realizada por el equipo auditor a la vigenia 2022, no se evidenció la utilización del formato. Sin embargo se consultó al área de contratación quienes informaron que le formato se ha utilizado en la vigencia 2023 para los procesos de insumos generales, vigencia futuras y en algunos procesos menores. Se evidencia la utilización del formato en el contrato 3374-2023. Por lo tanto la acción se cierra. ESTADO: Cerrada | Q12: =IF(OR(F12="",M12="",M12=""),"-",IF(AND(M12=100%,N12=100%),"Cerrada","Abierta")) -> Cerrada | R12: =IF(F12="",0,1) -> 1 | V12: Dirección de Contratación | AF12: ='[5]F-CF-RC-012'!K12 -> Dirección Administrativa - supervision del contrato | AG12: ='[5]F-CF-RC-012'!L12 -> Jhon Bayron Restrepo Jaramillo
A13: Auditoría Regular vigencia 2019 | B13: 44183 | C13: 6 | D13: Deficiencias en el proceso de selección del proveedor, incumplimiento al manual de contratación de la ESE Metrosalud: La ESE Metrosalud y Almera Information Management S.A.S, pactaron por el uso mensual del módulo Almera SGC un valor de $1’990.000,00 y por el módulo mecanismos de integración (Gestión de Actas y Grupos Primarios) $640.000; para un total de $2’630.000, con la empresa ISOLUCION las mismas funcionalidades valen $1’100.000. Dado que a la fecha Almera Information Management SAS solo ha facturado por el servicio del módulo mecanismos de integración, se estaría configurando la violación al principio de eficiencia en $640.000, dado que el servicio fue cancelado bajo Orden de Pago TPGE-221359 del 13 de mayo de 2020. Por consiguiente, Se estaría configurando vulneración al principio de eficiencia consagrado en la ley 42 de 1993, artículos 8°, toda vez que dentro de la oferta presentada por Isolucion este módulo estaba incluido en el componente Isolucion Gestión, el cual se ofertó por $1’100.000,00; mientras Almera Information Management S.A.S ofrece en módulos separados lo que Isolucion Gestión hace en un solo módulo. La irregularidad señalada en los párrafos precedentes, obedecen a la falta de aplicación rigurosa de las normas y principios que en materia contractual rigen a Metrosalud, y permiten garantizar la gestión pública bajo lineamientos de economía, eficiencia y eficacia. En consecuencia, el valor de $640.000 cancelados a la firma Almera Information Management S.A.S por el módulo mecanismos de integración, afecta la situación financiera de la ESE Metrosalud | E13: Con Incidencia Administrativa, Fiscal y Disciplinaria | F13: Elaborar un formato de estudio de mercado para el caso que se requiera, a fin de diferenciar las cotizaciones del estudio de mercado de las ofertas presentadas dentro de los procesos de selección | G13: 44201 | H13: 44561 | I13: Diferenciar dentro del expediente las cotizaciones que hace parte de un estudio de mercado de las ofertas propias del proceso de selección | J13: 44377 | K13: Dirección de Contratación | L13: =VLOOKUP(K13,'DEPENDENCIAS-RESPONSABLES'!B:C,2,FALSE) -> Esperanza Peñaranda Pineda (Directora Operativa de Contratación) | M13: 1 | N13: 1 | O13: Enero 2022: Continua abierta Mayo 2022: Seguimiento Abril - Mayo 2022 - La oportunidad de mejora se encuentra cerrada, ya se incluyó en el formato Estudio de Mercado con código PA03 FR 456 alojado en Almera Noviembre 2022: Cerrada Abril 2024: De acuerdo con el informe de la Contraloría de agosto 2023 "Informe Definitivo Gestión Fiscal Integral Auditoría Financiera y de Gestión vigencia 2022 E.S.E. Metrosalud", esta acción quedó CERRADA (cuadro 25, pg 67-informe). Está CERRADA en PAPEL DE TRABAJO PT 03-PF EVALUACIÓN PLAN DE MEJORAMIENTO de la contraloría. Observación Contraloría: Se verificó el formato en Almera el cual está vigente a partir del 05/03/2022. En la revisión contractual realizada por el equipo auditor a la vigenia 2022, no se evidenció la utilización del formato. Sin embargo se consultó al área de contratación quienes informaron que le formato se ha utilizado en la vigencia 2023 para los procesos de insumos generales, vigencia futuras y en algunos procesos menores. Se evidencia la utilización del formato en el contrato 3374-2023. Por lo tanto la acción se cierra. ESTADO: Cerrada | Q13: =IF(OR(F13="",M13="",M13=""),"-",IF(AND(M13=100%,N13=100%),"Cerrada","Abierta")) -> Cerrada | R13: =IF(F13="",0,1) -> 1 | V13: Dirección de Contratación | AF13: ='[5]F-CF-RC-012'!K13 -> Dirección Administrativa - supervision del contrato | AG13: ='[5]F-CF-RC-012'!L13 -> Jhon Bayron Restrepo Jaramillo
A14: Auditoría Regular vigencia 2019 | B14: 44183 | C14: 7 | D14: Deficiencias en el proceso de selección del proveedor, incumplimiento al manual de contratación de la ESE Metrosalud: Con los hechos que a continuación se describen, en relación con el proceso contractual para el arrendamiento de software como servicios (SaaS). Se desprenden una serie de deficiencias: No velar por que la adquisición se efectuara basados en estudios de igualdad en condiciones técnicas y bajo la oferta más económica. Se observa incumplimiento por parte de la administración de la Empresa Social del Estado, al no dar estricto cumplimiento a su Estatuto Contractual. Se detectó una irregularidad que contraria lo referente al estatuto de contratación, Acuerdo 252 de 2014, artículo 3° - Principios: “Toda Contratación que realice METROSLAUD se hará bajo criterios de eficiencia y eficacia de la Administración, garantizando la libre competencia y los principios de la buena fe, de igualdad, moralidad, transparencia, publicidad, calidad, economía, responsabilidad, celeridad, imparcialidad, debido proceso, participación, coordinación, planeación y autonomía de la voluntad de partes. (…)” Igualmente, se vulnera lo fijado en el artículo 15, del señalado estatuto, Fase de Selección: “La ESE Metrosalud seleccionará la oferta más favorable teniendo en cuenta las normas aplicables a cada modalidad de selección del contratista, las cuales se desarrollan en el capítulo IV”. Lo estipulado en los artículos 3° y 15° del Estatuto de Contratación, permite establecer que la ESE debió contemplar como criterio habilitante las ofertas económicas presentadas por los demás proponentes. Si bien es cierto dentro de la evaluación “EXPLORACIÓN DE MERCADO SOFTWARE SISTEMAS DE GESTIÓN”, se elaboró un comparativo de propuestas, el aspecto económico no se consideró al momento de realizar la selección. Por su parte, en atención a lo establecido en el Manual de Contratación de Metrosalud, se puede concluir que, dado los hechos antes mencionados, se vulnera igualmente lo allí determinado por incumplimiento de los principios de economía y planeación, Estipulado en el numeral 1.6 PRINCIPIOS QUE RIGEN LA CONTRATACIÓN, ítem 12 y 14, respectivamente. “12) En virtud del principio de economía, la Empresa Social del Estado deberá proceder con austeridad y eficiencia en el proceso de contratación y optimizar el uso del tiempo y demás recursos, procurando el más alto nivel de calidad en las actuaciones y la protección de los derechos de las personas. 14) En virtud del principio de planeación, la Empresa Social del Estado debe hacer durante la etapa de planeación el análisis de la perspectiva legal, comercial, financiera, organizacional, técnica y de riesgo del objeto a contratar. La Entidad Estatal debe dejar constancia de este análisis en los documentos del proceso.” Así mismo, debió dar pleno cumplimiento a lo demandado en Estatuto de Contratación, Artículo 27 - Evaluación; pues en el expediente contractual no se encontró evidencia documental de haber realizado evaluación de los criterios jurídicos y financieros, a sabiendas que son requisitos habilitantes. Como se colige de todo lo antes mencionado la E.S.E no adelantó el proceso de selección con atención al artículo señalado. “Las propuestas serán evaluadas incluyendo como requisitos habilitantes los criterios jurídicos y financieros, los cuales de no cumplirse serán causales de rechazo de la propuesta; adicionalmente se realizará el análisis técnico de las propuestas de conformidad con las condiciones previamente establecidas. Aquellos procesos contractuales que superen los 300 salarios mínimos legales mensuales vigentes, deberán ser presentados al Comité de Recomendación y Adquisición para la Contratación de METROSLAUD, el cual recomendará o no al ordenador del gasto la adjudicación.” Durante la etapa precontractual (análisis de ofertas), Metrosalud debió tomar los valores sin IVA ofrecidos por la firma Isolucion, para los cuatro (4) módulos solicitados por Metrosalud; con lo cual el valor mes de arrendamiento del software sería de $3’100.000; en tanto que el valor mes contratado con la firma ALMERA INFORMATION MANAGEMENT S.A.S es de $5’290.000; la diferencia entre la propuesta y el valor contratado es de $2’190.000 por mes. Las irregularidades antes descritas, obedecen a la falta de aplicación rigurosa de las normas y principios que en materia contractual rigen a Metrosalud. Normas estás que se conciben para garantizar la gestión pública bajo lineamientos de economía, eficiencia y eficacia. | E14: Con Incidencia Administrativa y Disciplinaria | F14: Elaborar un formato de estudio de mercado para el caso que se requiera, a fin de diferenciar las cotizaciones del estudio de mercado de las ofertas presentadas dentro de los procesos de selección | G14: 44201 | H14: 44561 | I14: Diferenciar dentro del expediente las cotizaciones que hace parte de un estudio de mercado de las ofertas propias del proceso de selección | J14: 44377 | K14: Dirección de Contratación | L14: =VLOOKUP(K14,'DEPENDENCIAS-RESPONSABLES'!B:C,2,FALSE) -> Esperanza Peñaranda Pineda (Directora Operativa de Contratación) | M14: 1 | N14: 1 | O14: Enero 2022: Continua abierta Mayo 2022 - La oportunidad de mejora se encuentra cerrada, ya se incluyó en el formato Estudio de Mercado con código PA03 FR 456 alojado en Almera Noviembre 2022: Cerrada Abril 2024: De acuerdo con el informe de la Contraloría de agosto 2023 "Informe Definitivo Gestión Fiscal Integral Auditoría Financiera y de Gestión vigencia 2022 E.S.E. Metrosalud", esta acción quedó CERRADA (cuadro 25, pg 67-informe). Está CERRADA en PAPEL DE TRABAJO PT 03-PF EVALUACIÓN PLAN DE MEJORAMIENTO de la contraloría. Observación Contraloría: Se verificó el formato en Almera el cual está vigente a partir del 05/03/2022. En la revisión contractual realizada por el equipo auditor a la vigenia 2022, no se evidenció la utilización del formato. Sin embargo se consultó al área de contratación quienes informaron que le formato se ha utilizado en la vigencia 2023 para los procesos de insumos generales, vigencia futuras y en algunos procesos menores. Se evidencia la utilización del formato en el contrato 3374-2023. Por lo tanto la acción se cierra. ESTADO: Cerrada | Q14: =IF(OR(F14="",M14="",M14=""),"-",IF(AND(M14=100%,N14=100%),"Cerrada","Abierta")) -> Cerrada | R14: =IF(F14="",0,1) -> 1 | V14: Dirección de Contratación | AF14: ='[5]F-CF-RC-012'!K14 -> Dirección Administrativa - supervision del contrato | AG14: ='[5]F-CF-RC-012'!L14 -> Jhon Bayron Restrepo Jaramillo
A15: Auditoría Regular vigencia 2019 | B15: 44183 | C15: 8 | D15: Horas pagadas de más: En el contrato 3793 de 2019, cuyo objeto fue la prestación de servicios médicos y odontólogos asistenciales en las UPSS donde la ESE Metrosalud requiera de sus servicios de acuerdo con la demanda poblacional, por un valor de $342.924.200 que fue firmado e iniciado el 7 de noviembre de 2019, se pudo evidenciar en el transcurso de la auditoria que, en el cuadro de turnos enviado por el Supervisor del contrato del mes de noviembre del 2019, fueron pagadas 351 horas de más. Ente de control verificó 110 horas lo que muestra una diferencia de 48 horas de más, situación que es constitutiva de un presunto detrimento patrimonial por supuesta violación del principio de eficiencia contemplado en el articulado 8 de la ley 42 de 1993, en la medida que la asignación de los recursos no fue la más conveniente para maximizar los resultados en la ejecución del contrato 3793 de 2019, toda vez que se pagó un valor superior sin justificación alguna, lo que denota un incumplimiento de las obligaciones del Supervisor del contrato al inobservar lo dispuesto en el inciso primero del artículo 84 de la ley 1474 del 2011, que dispone: “FACULTADES Y DEBERES DE LOS SUPERVISORES Y LOS INTERVENTORES: La supervisión e interventoría contractual implica el seguimiento al ejercicio del cumplimiento obligacional por la entidad contratante sobre las obligaciones a cargo del contratista….”(…). | E15: Con Incidencia Fiscal y Administrativa | F15: Capacitación a los supervisores de contratos sobre la importancia del seguimiento a cada una de las obligaciones pactadas en el contrato | G15: 44201 | H15: 44561 | I15: Lograr Adherencia en el Manual de supervision e interventoria, y crear consiencia en el cumplimiento de las obligaciones de los supervisores | J15: 44561 | K15: Dirección de Contratación | L15: =VLOOKUP(K15,'DEPENDENCIAS-RESPONSABLES'!B:C,2,FALSE) -> Esperanza Peñaranda Pineda (Directora Operativa de Contratación) | M15: 1 | N15: 1 | O15: Enero 2022: Continua abierta Mayo 2022: Se evidencio el inicio del despliegue institucional, del cual se anexa copia de la presentacion realizada, adicionalmente se cuenta con unacronograma del año en curso donde se realizaran capacitaciones pérsonalizadas con cada supervisor Evidencia despliegue y cronograma con las fechas y contenidos (entrega del coronogrma 29 de julio) Se solicita ampliacion de la fecha para las acapacitaciones personalizadas 31/12/2022 Noviembre 2022: Se envia correo a la Direccion Administrativa, para solictar las envidencias pendientes y dar cierre Septiembre 2023: Este hallazgo continua abierto de acuerdo con el Informe Definitivo de la Auditoría Financiera y de Gestión de la vigencia 2022. Febrero 2024: Se realiza segumiento, donde los responsables de dar cumplimiento a las acciónes de mejora no presentaron avances. Abril 2024: De acuerdo con el informe de la Contraloría de agosto 2023 "Informe Definitivo Gestión Fiscal Integral Auditoría Financiera y de Gestión vigencia 2022 E.S.E. Metrosalud", esta acción quedó ABIERTA (cuadro 25, pg 67-informe). Está ABIERTA en PAPEL DE TRABAJO PT 03-PF EVALUACIÓN PLAN DE MEJORAMIENTO de la contraloría. Observación Contraloría: Se recibió evidencias de jornada de despliegue (Reinducción) realizada por la empresa a todo el personal, donde en uno de los temas se trataba el tema de manual de contratación y de supervisión. Pero no se realizó una capacitación exclusiva para los supervisores de los contratos. En los contratos evaluados aun se evidencia debilidades en la supervisión relacionadas con el seguimiento financiero, lo que ocasionó observaciones con presunta incidencia fiscal asi:: Contrato 3532-2022 servicios pagados de mas, Contrato 3219-2022 horas de transporte no utilizadas ni soportas. Con lo anterior se verifica que la acción que realizó la entidad para evitar que el hecho detectado se repitiera, no fue efectiva. Por lo tanto la acción continua abierta. Julio 2024: : Se evidencian dos capacitaciones realizadas (una en 2022 y otra en 2023) en el manual institucional de supervisión e interventoría de contratos codigo PA 03 MA 03, dirigido y con asistencia de los supervisores de los contratos de la ESE.Cumplimiento: 80%, Efectividad 80% Agosto 2024: Pendiente evidencias del cumplimiento por parte de los responsables. Sin avances a la fecha. Cumplimiento: 80% - Efectividad 80% Septiembre 2024: Pendiente evidencias del cumplimiento por parte de los responsables. Sin avances a la fecha. Cumplimiento: 80% - Efectividad 80% Octubre 2024: Pendiente evidencias del cumplimiento por parte de los responsables. Sin avances a la fecha. Cumplimiento: 80% - Efectividad 80% Noviembre 2024: Pendiente evidencias del cumplimiento por parte de los responsables. Sin avances a la fecha. Cumplimiento: 80% - Efectividad 80% Diciembre 2024: Seguimiento Oficina Control Interno y Evaluación: adjuntan evidencias de la capacitación a los supervisores de contratos sobre la importancia del seguimiento a cada una de las obligaciones pactadas en el contrato. cumplimiento 100%. Enero 2025: Pendiente completar las evidencias de las acciones de mejora, por parte de los responsables del cumplimiento Febrero 2025: Pendiente completar las evidencias de las acciones de mejora, por parte de los responsables del cumplimiento. Marzo 2025: Se realizó seguimiento conjunto con la Contraloría Distrital de Medellín y ellos están evaluando las evidencias durante la Auditoría Financiera y de Gestión de la vigencia 2024. Abril 2025: Se realizó seguimiento conjunto con la Contraloría Distrital de Medellín y ellos están evaluando las evidencias durante la Auditoría Financiera y de Gestión de la vigencia 2024. Mayo 2025: Se realizó seguimiento conjunto con la Contraloría Distrital de Medellín y ellos están evaluando las evidencias durante la Auditoría Financiera y de Gestión de la vigencia 2024. Junio 2025: Actualmente la Contraloría Distrital de Medellín está realizando la auditoría para la vigencia 2024, y está realizando la verificación de las evidencias de esta acción. Julio 2025: Actualmente la Contraloría Distrital de Medellín está realizando la auditoría para la vigencia 2024, y está realizando la verificación de las evidencias de esta acción. Agosto 2025: Posterior a la auditoría de gestión de la Contraloría Distrital de Medellín vigencia 2024, se está a la espera de los resultados del informe para el cierre del hallazgo. Septiembre 2025: Se cierra esta acción de acuerdo con el informe definitivo de la Auditoria Financiera, de Gestión y Resultados vigencia 2024, emitido por la Contraloría Distrital de Medellín en septiembre de 2025. ESTADO: CERRADA - Verificado en Informe Definitivo Auditoria Financiera, de Gestión y Resultados vigencia 2024, con fecha de septiembre 2025. | Q15: =IF(OR(F15="",M15="",M15=""),"-",IF(AND(M15=100%,N15=100%),"Cerrada","Abierta")) -> Cerrada | R15: =IF(F15="",0,1) -> 1 | V15: Dirección de Contratación | AF15: ='[5]F-CF-RC-012'!K15 -> Dirección Administrativa - supervision del contrato | AG15: ='[5]F-CF-RC-012'!L15 -> Jhon Bayron Restrepo Jaramillo
